{"text_format":"3","workbook":"xlsx","n_sheets":2,"sheets":["Изделие","Расёты"],"not_rendered":{"macros":1,"external_links":3,"comments":1},"read":"whole","date_system":"1900"}

{"sheet":"Изделие","index":0,"n_rows":27,"n_cols":5,"rows_kept":27,"merged":[[19,1,25,1],[19,2,19,4],[20,2,20,4],[21,2,21,4],[22,2,22,4],[23,2,23,4],[24,2,24,4],[25,2,25,4]]}
[null,"Выбор параметров","Примечания","ЦЕНА",{"$f":"Расёты!E36","v":{"v":16318.52359,"d":"16,318.52 ₽"}}]
[{"$f":"Расёты!F3","v":"Наименование"},"ЩУ-П НИКОМ","Марка щита"]
[{"$f":"Расёты!G3","v":"Тип клапана"},"Кр","Кп – с пружинным возвратом;\nКр – реверсивный;\nКэ – электромагнитный."]
[{"$f":"Расёты!H3","v":"Входное напряжение"},230,"Не редактируемый параметр."]
[{"$f":"Расёты!J3","v":"Сепень защиты"},"IP31","IP31 – с пружинным возвратом;\nIP54 – реверсивный;\nIP65 – электромагнитный."]
[{"$f":"Расёты!L3","v":"Способ контрля линий"},1,"1 – косвенный контроль линий управления;\n2 – прямой контроль всех линий."]
[{"$f":"Расёты!X3","v":"Количество пожарных зон (Сигналов \"ПОЖАР\")"},1,"Указывается значения от 1 до 6\nЕсли пожарных зон > 6  =.> ЭКСКЛЮЗИВ"]
[{"$f":"CONCATENATE(Расёты!AS2,Расёты!AU2,Расёты!AQ1,Расёты!AS1)","v":"Количество клапанов 1-ой Пожарной зоны "},3,"Указывается от 1 до 40",null,5]
[{"$f":"IF(B7<2,0,CONCATENATE(Расёты!AS2,Расёты!AV2,Расёты!AQ1,Расёты!AS1))","v":0},1,"Указывается от 1 до 40"]
[{"$f":"IF(B7<3,\"0\",CONCATENATE(Расёты!AS2,Расёты!AW2,Расёты!AR2,Расёты!AS1))","v":"0"},1,"Указывается от 1 до 40"]
[{"$f":"IF(B7<4,\"0\",CONCATENATE(Расёты!AS2,Расёты!AX2,Расёты!AQ1,Расёты!AS1))","v":"0"},1,"Указывается от 1 до 40"]
[{"$f":"IF(B7<5,\"0\",CONCATENATE(Расёты!AS2,Расёты!AY2,Расёты!AQ1,Расёты!AS1))","v":"0"},1,"Указывается от 1 до 40"]
[{"$f":"IF(B7<6,\"0\",CONCATENATE(Расёты!AS2,Расёты!AZ2,Расёты!AQ1,Расёты!AS1))","v":"0"},1,"Указывается от 1 до 40"]
[{"$f":"Расёты!P3","v":"Напряжение питания привода"},230,"Не редактируемый параметр.\nЕсли привод 24В => добавить 500руб. умноженное на кол-во клапанов"]
[{"$f":"Расёты!R3","v":"Максимальный номинальный ток одного привода"},1,"Если ток привода < 6А - цена не изменится, а в маркировке, в счёте - указать \"6А\""]
[{"$f":"Расёты!T3","v":"Тип управляющего сигнала"},"24D","12/24D – управление постоянным напряжением 12/24В;\nNO – нормально разомкнутый контакт (при ПОЖАРЕ - замыкается);\nNC – нормально замкнутый контакт (при ПОЖАРЕ - размыкается)."]
[{"$f":"Расёты!Z3","v":"Диспетчеризация"},null," \" \" – нет диспетчеризации положения;\nД – Диспетчеризация положения каждого клапана."]
[{"$f":"Расёты!V3","v":"Индикация"},null," \" \" – нет индикации положения;\nИ – индикация положения каждого клапана."]
["Маркировка:",{"$f":"Расёты!F20","v":"ЩУ-П НИКОМАКр-230-IP31-1[3/230/1-24D]"}]
[null,"Описание",{"$f":"Расёты!I36","v":"Щит управления 3-мя клапанами, с косвенным контролем линий управления"}]
[null,null,{"$f":"Расёты!I37","v":"С реверсивным приводом, 230В, Iном < 1А"}]
[null,null,{"$f":"Расёты!I38","v":"Корпус: ЩМП1 (395х310х220). Степень защиты оболочки IP31"}]
[null,null,{"$f":"Расёты!I39","v":"Управляющий сигнал, от внешних устройств, типа: 24D (напряжение 24VDC)"}]
[null,null,{"$f":"Расёты!C29","v":"Пожарных зон: 1 шт."}]
[null,null,{"$f":"Расёты!I40","v":""}]
[null,null,{"$f":"Расёты!I41","v":""}]
[{"$nulls":3},"ЦЕНА",{"$f":"E1","v":{"v":16318.52359,"d":"16,318.52 ₽"}}]

{"sheet":"Расёты","index":1,"n_rows":180,"n_cols":176,"rows_kept":180,"hidden":true,"merged":[[0,4,1,4],[2,4,17,4],[22,4,32,4],[35,7,40,7],[35,8,35,10],[36,8,36,10],[36,15,36,17],[36,20,36,21],[37,8,37,10],[37,15,37,17],[37,20,37,21],[38,8,38,10],[38,15,38,17],[38,20,38,21],[39,8,39,10],[42,18,42,24],[52,15,52,16],[52,31,52,32],[53,0,55,0],[56,0,58,0],[59,0,61,0],[62,0,63,0],[74,13,74,23],[76,13,76,23]]}
[{"$nulls":4},"символ:",null,"А","-",null,"-",null,"-",null,"[",{"$nulls":3},"/",null,"-",null,{"$f":"IF(Z20=Z4,\"]\",\"\")","v":"]"},{"$nulls":3},"]",{"$nulls":16},"-ой","-ый"," Пожарной зоны "]
[1,{"$f":"F34","v":"Корпус ЩМП1 (395х310х220)"},1,{"$f":"G34","v":2056},{"$nulls":11},"/",{"$nulls":5},{"$f":"IF(Изделие!B18=V5,W2,\"\")","v":""},{"$f":"IF(Z20=Z5,\";\",\"+\")","v":"+"},null,null,{"$f":"IF(Z20=Z5,\"+\",\"\")","v":""},{"$nulls":16},"-ий","-ей","Количество клапанов ",0,1,2,3,4,5,6,7,8,9,10,11,12,13,14,15,16,17,18,19,20,21,22,23,24,25,26,27,28,29,30,31,32,33,34,35,36,37,38,39,40,41,42,43,44,45,46,47,48,49,50,51,52,53,54,55,56,57,58,59,60,61,62,63,64,65,66,67,68,69,70,71,72,73,74,75,76,77,78,79,80,81,82,83,84,85,86,87,88,89,90,91,92,93,94,95,96,97,98,99,100,101,102,103,104,105,106,107,108,109,110,111,112,113,114,115,116,117,118,119,120,121,122,123,124,125,126,127,128,129,130]
[2,{"$f":"H34","v":"Блок релейный \"БР-2-US-IP00\""},2,{"$f":"I34","v":485},"Итоговый подбор параметров","Наименование","Тип клапана","Входное напряжение",null,"Сепень защиты",null,"Способ контрля линий",null,"ряд после таблиц (вторая строка)",null,"Напряжение питания привода",null,"Максимальный номинальный ток одного привода",null,"Тип управляющего сигнала",null,"Индикация",null,"Количество пожарных зон (Сигналов \"ПОЖАР\")",null,"Диспетчеризация",null,"Параметр 11",null,"Параметр 12",null,"Параметр 13",null,"Параметр 14",null,"Параметр 15",null,"Параметр 16",null,"Параметр 17",null,"Параметр 18",null,"Параметр 19",null,"Параметр 20"]
[3,{"$f":"J34","v":"Контактор КМ-103 9А катушка управления 220В AC"},3,{"$f":"K34","v":466.84},null,"ЩУ-П НИКОМ","Кп",230,null,"IP31",null,1,{"$nulls":3},230,null,1,null,"NO",{"$nulls":3},1,{"$nulls":3},"вар.11.1",null,"вар.12.1",null,"вар.13.1",null,"вар.14.1",null,"вар.15.1",null,"вар.16.1",null,"вар.17.1",null,"вар.18.1",null,"вар.19.1",null,"вар.20.1"]
[4,{"$f":"L34","v":""},4,{"$f":"O34","v":134.94},null,null,"Кр",null,null,"IP54",null,2,{"$nulls":5},6,null,"NC",null,"И",null,2,null,"Д",null,"вар.11.2",null,"вар.12.2",null,"вар.13.2",null,"вар.14.2",null,"вар.15.2",null,"вар.16.2",null,"вар.17.2",null,"вар.18.2",null,"вар.19.2",null,"вар.20.2"]
[5,{"$f":"N34","v":"Выключатель автоматический однополюсный 1А С ВА-101 4.5кА (11049DEK)"},5,{"$f":"Q34","v":160.07},null,null,"Кэ",null,null,"IP65",{"$nulls":7},10,null,"12D",{"$nulls":3},3,{"$nulls":3},"вар.11.3",null,"вар.12.3",null,"вар.13.3",null,"вар.14.3",null,"вар.15.3",null,"вар.16.3",null,"вар.17.3",null,"вар.18.3",null,"вар.19.3",null,"вар.20.3"]
[6,{"$f":"P34","v":"Выключатель автоматический однополюсный 1А С ВА-101 4.5кА (11049DEK)"},6,{"$f":"S34","v":224},{"$nulls":9},{"$f":"Изделие!B8","v":3},null,{"$f":"CONCATENATE(P1,P2,Изделие!B14)","v":"/230"},null,{"$f":"CONCATENATE(R1,R2,Изделие!B15)","v":"/1"},null,"24D",{"$nulls":3},4,{"$nulls":3},"вар.11.4",null,"вар.12.4",null,"вар.13.4",null,"вар.14.4",null,"вар.15.4",null,"вар.16.4",null,"вар.17.4",null,"вар.18.4",null,"вар.19.4",null,"вар.20.4"]
[7,{"$f":"R34","v":"Реле промышленное миниатюрное; монтаж в колодку; Контакты: 4CO (AgNi), напряжение 230В AC, номинальный ток 6А, опции: кнопка тест + мех.индикатор. R4N-2014-23-5230-WT"},7,{"$f":"S34","v":224},{"$nulls":9},{"$f":"IF(X20<2,0,Изделие!B9)","v":0},{"$f":"CONCATENATE(L1,N8,P8,R8)","v":"-0"},{"$f":"IF(N8=0,\"\",P7)","v":""},{"$f":"IF(N8=0,\"\",O8)","v":""},{"$f":"IF(N8=0,\"\",R7)","v":""},{"$nulls":5},5,{"$nulls":3},"вар.11.5",null,"вар.12.5",null,"вар.13.5",null,"вар.14.5",null,"вар.15.5",null,"вар.16.5",null,"вар.17.5",null,"вар.18.5",null,"вар.19.5",null,"вар.20.5"]
[8,{"$f":"T34","v":"Колодка с винтовыми зажимами (75*27*61мм) для реле серии R4N, T-R4;\nцвет серый. GZM4-gray"},8,{"$f":"U34","v":159},{"$nulls":9},{"$f":"IF(X20<3,0,Изделие!B10)","v":0},{"$f":"CONCATENATE(L1,N9,P9,R9)","v":"-0"},{"$f":"IF(N9=0,\"\",P7)","v":""},{"$f":"IF(N9=0,\"\",O9)","v":""},{"$f":"IF(N9=0,\"\",R7)","v":""},{"$nulls":5},6,{"$nulls":3},"вар.11.6",null,"вар.12.6",null,"вар.13.6",null,"вар.14.6",null,"вар.15.6",null,"вар.16.6",null,"вар.17.6",null,"вар.18.6",null,"вар.19.6",null,"вар.20.6"]
[9,{"$f":"V34","v":"Фиксатор металлический для реле R2N, R3N, R4N для колодок GZM2,\nGZT2, GZM3, GZT3, GZM4, GZT4, GZMB4, GZ4, GZP4. G4 1052"},9,{"$f":"W34","v":11},{"$nulls":9},{"$f":"IF(X20<4,0,Изделие!B11)","v":0},{"$f":"CONCATENATE(L1,N10,P10,R10)","v":"-0"},{"$f":"IF(N10=0,\"\",P7)","v":""},{"$f":"IF(N10=0,\"\",O10)","v":""},{"$f":"IF(N10=0,\"\",R7)","v":""},{"$nulls":9},"вар.11.7",null,"вар.12.7",null,"вар.13.7",null,"вар.14.7",null,"вар.15.7",null,"вар.16.7",null,"вар.17.7",null,"вар.18.7",null,"вар.19.7",null,"вар.20.7"]
[10,{"$f":"X34","v":"Реле миниатюрное электромеханическое низкопрофильное, Контакты: 2CO (AgNi), напряжение 230В AC, номинальный ток 8А, прозрачный корпус, IP40, RTII. RM84-2012-25-5230-RUS"},10,{"$f":"Y34","v":170},{"$nulls":9},{"$f":"IF(X20<5,0,Изделие!B12)","v":0},{"$f":"CONCATENATE(L1,N11,P11,R11)","v":"-0"},{"$f":"IF(N11=0,\"\",P7)","v":""},{"$f":"IF(N11=0,\"\",O11)","v":""},{"$f":"IF(N11=0,\"\",R7)","v":""},{"$nulls":5},{"$f":"IF(X20=1,\"\",X20)","v":""},{"$nulls":3},"вар.11.8",null,"вар.12.8",null,"вар.13.8",null,"вар.14.8",null,"вар.15.8",null,"вар.16.8",null,"вар.17.8",null,"вар.18.8",null,"вар.19.8",null,"вар.20.8"]
[11,{"$f":"Z34","v":"Колодка с винтовыми зажимами для реле серии RM84, RM85,RM87L/P; цвет серый ( в комплекте шильдик маркировочный GZT80-0035). GZM80-gray"},11,{"$f":"AA34","v":113},{"$nulls":9},{"$f":"IF(X20<6,0,Изделие!B13)","v":0},{"$f":"CONCATENATE(L1,N12,P12,R12)","v":"-0"},{"$f":"IF(N12=0,\"\",P7)","v":""},{"$f":"IF(N12=0,\"\",O12)","v":""},{"$f":"IF(N12=0,\"\",R7)","v":""},{"$nulls":9},"вар.11.9",null,"вар.12.9",null,"вар.13.9",null,"вар.14.9",null,"вар.15.9",null,"вар.16.9",null,"вар.17.9",null,"вар.18.9",null,"вар.19.9",null,"вар.20.9"]
[12,{"$f":"AB34","v":"Фиксатор металлический для реле RM84, RM85, RM87, для колодок GZT80, GZM80, GZF80, GZT92, GZM92. GZM80-0041"},12,{"$f":"AC34","v":11},{"$nulls":19},{"$f":"X20*2-2","v":0},{"$nulls":3},"вар.11.10",null,"вар.12.10",null,"вар.13.10",null,"вар.14.10",null,"вар.15.10",null,"вар.16.10",null,"вар.17.10",null,"вар.18.10",null,"вар.19.10",null,"вар.20.10"]
[13,{"$f":"AD34","v":"304130, Клеммник на DIN-рейку 4мм.кв. (серый); AVK4 (упак 100 шт)"},13,{"$f":"AE34","v":31.54975},{"$nulls":19},{"$f":"X20","v":1},{"$nulls":3},"вар.11.11",null,"вар.12.11",null,"вар.13.11",null,"вар.14.11",null,"вар.15.11",null,"вар.16.11",null,"вар.17.11",null,"вар.18.11",null,"вар.19.11",null,"вар.20.11"]
[14,{"$f":"AF34","v":"304131, Клеммник на DIN-рейку 4мм.кв. (синий); AVK4 (упак 100 шт)"},14,{"$f":"AG34","v":31.54975},{"$nulls":19},{"$f":"X20-1","v":0},{"$nulls":3},"вар.11.12",null,"вар.12.12",null,"вар.13.12",null,"вар.14.12",null,"вар.15.12",null,"вар.16.12",null,"вар.17.12",null,"вар.18.12",null,"вар.19.12",null,"вар.20.12"]
[15,{"$f":"AH34","v":"334120, Клеммник на DIN-рейку 4 мм.кв., (земля); AVK2,5/4T (упак 50 шт)"},15,{"$f":"AI34","v":111.6376},{"$nulls":19},{"$f":"300*(X20-1)","v":0},{"$nulls":3},"вар.11.13",null,"вар.12.13",null,"вар.13.13",null,"вар.14.13",null,"вар.15.13",null,"вар.16.13",null,"вар.17.13",null,"вар.18.13",null,"вар.19.13",null,"вар.20.13"]
[16,{"$f":"AJ34","v":"304120, Клеммник на DIN-рейку 2,5мм.кв. (серый); AVK2,5 (упак 100 шт)"},16,{"$f":"AK34","v":27.9094},{"$nulls":23},"вар.11.14",null,"вар.12.14",null,"вар.13.14",null,"вар.14.14",null,"вар.15.14",null,"вар.16.14",null,"вар.17.14",null,"вар.18.14",null,"вар.19.14",null,"вар.20.14"]
[17,{"$f":"AL34","v":"304121, Клеммник на DIN-рейку 2,5мм.кв. (синий); AVK2,5 (упак 100 шт)"},17,{"$f":"AM34","v":27.9094},{"$nulls":23},"вар.11.15",null,"вар.12.15",null,"вар.13.15",null,"вар.14.15",null,"вар.15.15",null,"вар.16.15",null,"вар.17.15",null,"вар.18.15",null,"вар.19.15",null,"вар.20.15"]
[18,{"$f":"AN34","v":"304121, Клеммник на DIN-рейку 2,5мм.кв. (синий); AVK2,5 (упак 100 шт)"},18,{"$f":"AO34","v":27.9094},"итог:",{"$f":"CONCATENATE(F1,F2,Изделие!B2)","v":"ЩУ-П НИКОМ"},{"$f":"CONCATENATE(G1,G2,Изделие!B3)","v":"АКр"},{"$f":"CONCATENATE(H1,H2,Изделие!B4)","v":"-230"},null,{"$f":"CONCATENATE(J1,J2,Изделие!B5)","v":"-IP31"},null,{"$f":"CONCATENATE(L1,L2,Изделие!B6)","v":"-1"},null,{"$f":"CONCATENATE(N1,N2,N7)","v":"[3"},{"$nulls":3},{"$f":"Изделие!B15","v":1},null,{"$f":"CONCATENATE(T1,T2,X19,Изделие!B16)","v":"-24D"},null,{"$f":"CONCATENATE(V1,V2,Изделие!B18)","v":"]"},null,{"$f":"CONCATENATE(X1,X2,X11)","v":""},null,{"$f":"IF(Z20=Z5,_xlfn.CONCAT(Z1,Z2,Z20),\"\")","v":""},null,{"$f":"CONCATENATE(AB1,AB2,Изделие!#REF!)","v":{"$error":"#REF!"}},null,{"$f":"_xlfn.CONCAT(AD1,AD2,Изделие!#REF!)","v":{"$error":"#NAME?"}},null,{"$f":"_xlfn.CONCAT(AF1,AF2,Изделие!#REF!)","v":{"$error":"#NAME?"}},null,{"$f":"_xlfn.CONCAT(AH1,AH2,Изделие!#REF!)","v":{"$error":"#NAME?"}},null,{"$f":"_xlfn.CONCAT(AJ1,AJ2,Изделие!B25)","v":{"$error":"#NAME?"}},null,{"$f":"_xlfn.CONCAT(AL1,AL2,Изделие!B26)","v":{"$error":"#NAME?"}},null,{"$f":"_xlfn.CONCAT(AN1,AN2,Изделие!B27)","v":{"$error":"#NAME?"}},null,{"$f":"_xlfn.CONCAT(AP1,AP2,Изделие!B28)","v":{"$error":"#NAME?"}},null,{"$f":"_xlfn.CONCAT(AR1,AR2,Изделие!B29)","v":{"$error":"#NAME?"}},null,{"$f":"_xlfn.CONCAT(AT1,AT2,Изделие!B30)","v":{"$error":"#NAME?"}}]
[19,{"$f":"AP34","v":"304120, Клеммник на DIN-рейку 2,5мм.кв. (серый); AVK2,5 (упак 100 шт)"},19,{"$f":"AQ34","v":27.9094},"Маркировка:",{"$f":"CONCATENATE(F19,G19,H19,J19,L19,N19,P7,R7,Q8,Q9,Q10,Q11,Q12,T19,Z19,V19)","v":"ЩУ-П НИКОМАКр-230-IP31-1[3/230/1-24D]"},{"$f":"Изделие!B3","v":"Кр"},null,null,{"$f":"Изделие!B5","v":"IP31"},null,{"$f":"Изделие!B6","v":1},null,{"$f":"SUM(N7:N12)","v":3},{"$nulls":5},{"$f":"Изделие!B16","v":"24D"},null,{"$f":"Изделие!B18","v":0},null,{"$f":"Изделие!B7","v":1},null,{"$f":"Изделие!B17","v":0}]
[20,{"$f":"AR34","v":"304120, Клеммник на DIN-рейку 2,5мм.кв. (серый); AVK2,5 (упак 100 шт)"},20,{"$f":"AS34","v":27.9094},{"$f":"CONCATENATE(R19,G1)","v":"1А"},{"$nulls":16},{"$f":"IF(V20=V5,1,0)","v":0},{"$nulls":3},{"$f":"IF(Z20=Z5,1,0)","v":0}]
[21,{"$f":"AT34","v":"Лампа ADDS 22мм зеленая LED 220В"},21,{"$f":"AU34","v":93.7},"Компаненты:","Корпус","Цена:","Параметр 1","Цена:","Параметр 2","Цена:","Параметр 3","Цена:","Параметр 4","Цена:","Параметр 5","Цена:","Параметр 6","Цена:","Параметр 7","Цена:","Параметр 8","Цена:","Параметр 9","Цена:","Параметр 10","Цена:","Параметр 11","Цена:","Параметр 12","Цена:","Параметр 13","Цена:","Параметр 14","Цена:","Параметр 15","Цена:","Параметр 16","Цена:","Параметр 17","Цена:","Параметр 18","Цена:","Параметр 19","Цена:","Параметр 20","Цена:","Параметр 21","Цена:","Параметр 22","Цена:","Параметр 23","Цена:","Параметр 24","Цена:","Параметр 25","Цена:","Параметр 26","Цена:","Параметр 27","Цена:","Параметр 28","Цена:","Параметр 29","Цена:","Параметр 30","Цена:","Параметр 31","Цена:"]
["С реверсивным приводом, 230В, Iном < ","Привод - с возвратной пружиной, 230В, Iном < ","С электромагнитным приводом, 230В, Iном < ",{"$f":"IF(G20=G5,F23,IF(G20=G4,F24,F25))","v":"С реверсивным приводом, 230В, Iном < 1А"},"Варианты:",{"$f":"CONCATENATE(A23,E21)","v":"С реверсивным приводом, 230В, Iном < 1А"}]
["Степень защиты оболочки IP65","Степень защиты: IP54","Степень защиты оболочки IP31",{"$f":"IF(J20=J6,A24,IF(J20=J5,B24,C24))","v":"Степень защиты оболочки IP31"},null,{"$f":"CONCATENATE(B23,E21)","v":"Привод - с возвратной пружиной, 230В, Iном < 1А"}]
[{"$f":"N20","v":3},"Щит управления ",{"$f":"IF(A25=1,\"-м\",IF(A25<5,\"-мя\",\"-ю\"))","v":"-мя"}," клапанами",null,{"$f":"CONCATENATE(C23,E21)","v":"С электромагнитным приводом, 230В, Iном < 1А"}]
["Управляющий сигнал, от внешних устройств, типа: "," (\"сухой контакт\")"," (напряжение 12VDC)"," (напряжение 24VDC)"]
[{"$f":"T20","v":"24D"},{"$f":"IF(A27=T6,C26,IF(A27=T7,D26,B26))","v":" (напряжение 24VDC)"}]
[{"$f":"V20","v":0},{"$f":"IF(A28=V5,C28,D28)","v":""},"Доп. Опция: Индикация положения каждого клапана \"Открыт\", \"Закрыт\"",{"$f":"\"\"","v":""}]
[" шт.","Пожарных зон: ",{"$f":"CONCATENATE(B29,X20,A29)","v":"Пожарных зон: 1 шт."},2800]
[{"$f":"Z20","v":0},{"$f":"IF(A30=Z5,C30,D30)","v":""},"Доп. Опция: Диспетчеризация положения каждого клапана \"Открыт\", \"Закрыт\"",{"$f":"\"\"","v":""}]
[30,"Элемент 30",30,3000]
[31,"Элемент 31",31,3100,{"$nulls":3},{"$f":"IF(X20<3,0,IF(X20<5,1,2))","v":0}]
[32,"Элемент 32",32,3200,{"$nulls":3},{"$f":"IF(T20=T5,0,IF(H34=B45,E45,E46))","v":1},null,{"$f":"IF(E47>0,E47,IF(E48>0,E48,IF(E49>0,E49,E51)))","v":1},null,{"$f":"IF(E48=0,\"\",E50)","v":""},null,{"$f":"E52","v":1},null,{"$f":"E53","v":1},null,{"$f":"E54","v":1},null,{"$f":"E55","v":1},null,{"$f":"E56","v":1},null,{"$f":"E57","v":2},null,{"$f":"E58","v":2},null,{"$f":"E59","v":2},null,{"$f":"E60","v":1},null,{"$f":"E61","v":1},null,{"$f":"E62","v":1},null,{"$f":"E63","v":6},null,{"$f":"E64","v":3},null,{"$f":"E65","v":0},null,{"$f":"E66","v":2},null,{"$f":"E67","v":6},null,{"$f":"E68","v":1},null,{"$f":"E69","v":1},null,{"$f":"E70","v":2},null,{"$f":"E71","v":1},null,{"$f":"E72","v":1},null,{"$f":"E73","v":1}]
[33,"Элемент 33",33,3300,"итог:",{"$f":"CONCATENATE(B44,F44)","v":"Корпус ЩМП1 (395х310х220)"},{"$f":"J44","v":{"v":2056,"d":"2,056.00 ₽"}},{"$f":"IF(E45=0,B46,B45)","v":"Блок релейный \"БР-2-US-IP00\""},{"$f":"IF(E45=0,J46,J45)","v":485},{"$f":"IF(E47>0,B47,IF(E48>0,B48,IF(E49>0,B49,B51)))","v":"Контактор КМ-103 9А катушка управления 220В AC"},{"$f":"IF(J34=B47,J47,IF(J34=B48,J48,IF(J34=B49,J49,J51)))","v":466.84},{"$f":"IF(E48=0,\"\",B50)","v":""},{"$f":"IF(E48=0,\"\",J50)","v":""},{"$f":"B53","v":"Выключатель автоматический однополюсный 1А С ВА-101 4.5кА (11049DEK)"},{"$f":"J52","v":{"v":134.94,"d":"134.94 ₽"}},{"$f":"B53","v":"Выключатель автоматический однополюсный 1А С ВА-101 4.5кА (11049DEK)"},{"$f":"J53","v":{"v":160.07,"d":"160.07 ₽"}},{"$f":"B54","v":"Реле промышленное миниатюрное; монтаж в колодку; Контакты: 4CO (AgNi), напряжение 230В AC, номинальный ток 6А, опции: кнопка тест + мех.индикатор. R4N-2014-23-5230-WT"},{"$f":"J54","v":{"v":224,"d":"224.00 ₽"}},{"$f":"B55","v":"Колодка с винтовыми зажимами (75*27*61мм) для реле серии R4N, T-R4;\nцвет серый. GZM4-gray"},{"$f":"J55","v":{"v":159,"d":"159.00 ₽"}},{"$f":"B56","v":"Фиксатор металлический для реле R2N, R3N, R4N для колодок GZM2,\nGZT2, GZM3, GZT3, GZM4, GZT4, GZMB4, GZ4, GZP4. G4 1052"},{"$f":"J56","v":{"v":11,"d":"11.00 ₽"}},{"$f":"B57","v":"Реле миниатюрное электромеханическое низкопрофильное, Контакты: 2CO (AgNi), напряжение 230В AC, номинальный ток 8А, прозрачный корпус, IP40, RTII. RM84-2012-25-5230-RUS"},{"$f":"J57","v":{"v":170,"d":"170.00 ₽"}},{"$f":"B58","v":"Колодка с винтовыми зажимами для реле серии RM84, RM85,RM87L/P; цвет серый ( в комплекте шильдик маркировочный GZT80-0035). GZM80-gray"},{"$f":"J58","v":{"v":113,"d":"113.00 ₽"}},{"$f":"B59","v":"Фиксатор металлический для реле RM84, RM85, RM87, для колодок GZT80, GZM80, GZF80, GZT92, GZM92. GZM80-0041"},{"$f":"J59","v":{"v":11,"d":"11.00 ₽"}},{"$f":"B60","v":"304130, Клеммник на DIN-рейку 4мм.кв. (серый); AVK4 (упак 100 шт)"},{"$f":"J60","v":{"v":31.54975,"d":"31.55 ₽"}},{"$f":"B61","v":"304131, Клеммник на DIN-рейку 4мм.кв. (синий); AVK4 (упак 100 шт)"},{"$f":"J61","v":{"v":31.54975,"d":"31.55 ₽"}},{"$f":"B62","v":"334120, Клеммник на DIN-рейку 4 мм.кв., (земля); AVK2,5/4T (упак 50 шт)"},{"$f":"J62","v":{"v":111.6376,"d":"111.64 ₽"}},{"$f":"B63","v":"304120, Клеммник на DIN-рейку 2,5мм.кв. (серый); AVK2,5 (упак 100 шт)"},{"$f":"J63","v":{"v":27.9094,"d":"27.91 ₽"}},{"$f":"B64","v":"304121, Клеммник на DIN-рейку 2,5мм.кв. (синий); AVK2,5 (упак 100 шт)"},{"$f":"J64","v":{"v":27.9094,"d":"27.91 ₽"}},{"$f":"B64","v":"304121, Клеммник на DIN-рейку 2,5мм.кв. (синий); AVK2,5 (упак 100 шт)"},{"$f":"J65","v":{"v":27.9094,"d":"27.91 ₽"}},{"$f":"B66","v":"304120, Клеммник на DIN-рейку 2,5мм.кв. (серый); AVK2,5 (упак 100 шт)"},{"$f":"J66","v":{"v":27.9094,"d":"27.91 ₽"}},{"$f":"B67","v":"304120, Клеммник на DIN-рейку 2,5мм.кв. (серый); AVK2,5 (упак 100 шт)"},{"$f":"J67","v":{"v":27.9094,"d":"27.91 ₽"}},{"$f":"B68","v":"Лампа ADDS 22мм зеленая LED 220В"},{"$f":"J68","v":{"v":93.7,"d":"93.70 ₽"}},{"$f":"B69","v":"Лампа ADDS 22мм красная LED 220В"},{"$f":"J69","v":{"v":93.7,"d":"93.70 ₽"}},{"$f":"B70","v":"Лампа ADDS 22мм желтая LED 220В"},{"$f":"J70","v":{"v":91.15,"d":"91.15 ₽"}},{"$f":"B71","v":"Переключатель AKS-2 22мм с ключом 2 позиции I-O черная ручка"},{"$f":"J71","v":{"v":228.78,"d":"228.78 ₽"}},{"$f":"B72","v":"Перекл. на 2 пол. I-O удлинн. ручка (1НО+1НЗ) ALCR"},{"$f":"J72","v":{"v":257.04,"d":"257.04 ₽"}},{"$f":"B73","v":"Метизы и расходные материалы"},{"$f":"J73","v":{"v":500,"d":"500.00 ₽"}}]
[34,"Элемент 34",34,3400]
[35,"Элемент 35",35,3500,{"$f":"L82","v":{"v":16318.52359,"d":"16,318.52 ₽"}},{"$f":"IF(Изделие!B6=2,Расёты!F38,Расёты!F37)","v":", с косвенным контролем линий управления"},null,"Описание",{"$f":"CONCATENATE(B25,A25,C25,D25,F36)","v":"Щит управления 3-мя клапанами, с косвенным контролем линий управления"}]
[36,"Элемент 36",36,3600,68,", с косвенным контролем линий управления",null,null,{"$f":"D23","v":"С реверсивным приводом, 230В, Iном < 1А"},{"$nulls":6},"9А",null,null,"12А","18А","25А"]
[37,"Элемент 37",37,3700,69,", с прямым контролем всех линий",null,null,{"$f":"CONCATENATE(F43,F44,L38,D24)","v":"Корпус: ЩМП1 (395х310х220). Степень защиты оболочки IP31"},null,null,". ",null,null,"контактор","22103DEK",null,null,"22108DEK","22113DEK","22118DEK"]
[38,"Элемент 38",38,3800,70,{"$nulls":3},{"$f":"CONCATENATE(A26,A27,B27)","v":"Управляющий сигнал, от внешних устройств, типа: 24D (напряжение 24VDC)"},{"$nulls":5},"цена:",{"$f":"[1]Контакторы!$G$5","v":{"v":466.84,"d":"466.84 ₽"}},null,null,{"$f":"[1]Контакторы!$G$4","v":{"v":517.39,"d":"517.39 ₽"}},{"$f":"[1]Контакторы!$G$17","v":{"v":630.79,"d":"630.79 ₽"}},{"$f":"[1]Контакторы!$G$18","v":{"v":799.94,"d":"799.94 ₽"}}]
[39,"Элемент 39",39,3900,71,{"$nulls":3},{"$f":"IF(V20=V5,B28,B30)","v":""},{"$nulls":6},"Контактор КМ-103 9А катушка управления 220В AC",null,null,"Контактор КМ-103 12А катушка управления 220В AC","Контактор КМ-103 18А катушка управления 220В AC","Контактор КМ-103 25А катушка управления 220В AC"]
[40,"Элемент 40",40,4000,72,{"$nulls":3},{"$f":"IF(V20=V5,B30,\"\")","v":""}]
["ТИП","ОПИСАНИЕ",null,"КОД ОБОРУД","кол-во,шт",null,null,"IP54","IP65","Стоимость","Цена","Стоимость одного шкафа в сборе ","дата актуализации цены",null,"Корректировка"]
["АППАРАТУРА НА ППУ",{"$f":"F20","v":"ЩУ-П НИКОМАКр-230-IP31-1[3/230/1-24D]"},null,null,1,"Корпус: ",null,{"v":400,"d":"400.00 ₽"},{"v":2500,"d":"2,500.00 ₽"},{"$f":"SUM(K44:K73)","v":{"v":6289.5669,"d":"6,289.57 ₽"}},{"$f":"SUM(K44:K73)*E43","v":{"v":6289.5669,"d":"6,289.57 ₽"}},{"$f":"J43+(J43*I88)+(D175*I87)+(J43*I89)+(J43*I90)+(D179*I91)+(D180*I92)","v":{"v":9631.184998,"d":"9,631.18 ₽"}},"2021-10-15",null,{"$f":"N20","v":3}," - кол-во клапанов",null,{"$f":"SUM(L45:L67)","v":{"v":20.450000000000003,"d":"20.45"}},"Корпус "]
[null,"Корпус ",null,null,1,{"$f":"IF(L20=L4,O45,O46)","v":"ЩМП1 (395х310х220)"},{"$f":"IF(F44=S44,S45,IF(F44=T44,T45,IF(F44=U44,U45,IF(F44=V44,V45,IF(F44=W44,W45,IF(F44=X44,X45,IF(F44=Y44,Y45,Z45)))))))","v":{"v":2056,"d":"2,056.00 ₽"}},{"$f":"G44+H43","v":{"v":2456,"d":"2,456.00 ₽"}},{"$f":"G44+I43","v":{"v":4556,"d":"4,556.00 ₽"}},{"$f":"IF(J20=J4,G44,IF(J20=J5,H44,I44))","v":{"v":2056,"d":"2,056.00 ₽"}},{"$f":"E44*J44","v":{"v":2056,"d":"2,056.00 ₽"}},"кол-во модулей","1 \"-\"",{"$f":"IF(R43<O76,S44,IF(R43<P76,T44,IF(R43<Q76,U44,IF(R43<S76,V44,IF(R43<T76,W44,IF(R43<W76,Y44,Z44))))))","v":"ЩМП1 (395х310х220)"},3000," - довесок за шкаф",null,null,"ЩМП1 (395х310х220)","ЩМП2 (500х400х220)","ЩМП3 (650х500х220)","ЩМП4 (800х650х250)","ЩМП5 (1000х750х300)","ЩМП6 (1200х750х300)","ЩМП7 (1400х650х285)","ЭКСКЛЮЗИВ"]
["DA1.1","Блок релейный \"БР-2-US-IP00\"",null,"БР-2",{"$f":"IF(T20=T6,F45,IF(T20=T7,F45,0))","v":1},{"$f":"IF(E51<3,1,2)+H32","v":1},{"$nulls":3},{"$f":"'[2]БР-2'!$D$71","v":{"v":485,"d":"485.00 ₽"}},{"$f":"E45*J45","v":{"v":485,"d":"485.00 ₽"}},{"$f":"3*E45","v":{"v":3,"d":"3.00"}},"\"И\"",{"$f":"IF(R43<O76,S44,IF(R43<P76,T44,IF(R43<Q76,U44,IF(R43<S76,V44,IF(R43<T76,W44,IF(R43<W76,Y44,Z44))))))","v":"ЩМП1 (395х310х220)"},{"$f":"IF(V20=V5,N45,N44)","v":"ЩМП1 (395х310х220)"},{"$nulls":3},{"$f":"[1]Корпуса!$F$31","v":{"v":2056,"d":"2,056.00 ₽"}},{"$f":"[1]Корпуса!$F$30","v":{"v":2634.4,"d":"2,634.40 ₽"}},{"$f":"[1]Корпуса!$F$29","v":{"v":3352,"d":"3,352.00 ₽"}},{"$f":"[3]Корпуса!$F$27","v":{"v":4999.6,"d":"4,999.60 ₽"}},{"$f":"[3]Корпуса!$F$25","v":{"v":6446.8,"d":"6,446.80 ₽"}},{"$f":"[3]Корпуса!$F$23","v":{"v":9035.2,"d":"9,035.20 ₽"}},{"$f":"[3]Корпуса!$F$160","v":{"v":16753,"d":"16,753.00 ₽"}},{"v":30000,"d":"30,000.00 ₽"}]
["DA1.2",{"$f":"IF(E51<3,D46,C46)","v":"Блок релейный БР-1М-Пд-УН-IP20"},"Блок релейный БР-1М-Пд-УН-IP20-V3","Блок релейный БР-1М-Пд-УН-IP20",{"$f":"IF(E45=0,F46,0)","v":0},{"$f":"1+H32","v":1},null,{"$f":"'[2]БР-1М'!$D$62","v":{"v":4248,"d":"4,248.00 ₽"}},{"$f":"'[2]БР-1М'!$D$61","v":{"v":3493,"d":"3,493.00 ₽"}},{"$f":"IF(B46=C46,H46,I46)*H33","v":{"v":3493,"d":"3,493.00 ₽"}},{"v":0,"d":"0.00 ₽"},{"$f":"4*E46","v":{"v":0,"d":"0.00"}},"2 \"И\"",{"$f":"IF(R43<O76,S44,IF(R43<P76,T44,IF(R43<Q76,U44,IF(R43<S76,V44,IF(R43<T76,W44,IF(R43<W76,X44,IF(R43<AA76,Y44,Z44)))))))","v":"ЩМП1 (395х310х220)"},{"$f":"IF(V20=V5,N46,N47)","v":"ЩМП1 (395х310х220)"}]
["DA1.1-DA1.15","Блок релейный,  БР-4-230-КР(П)-Пд-ТС-IP20",null,"БР-4",{"$f":"IF(L20=L4,0,F47)","v":0},{"$f":"IF(G20=G6,0,G47)","v":0},{"$f":"IF(G20=G5,H47,0)","v":0},{"$f":"IF(V20=V5,I47,I47)","v":0},{"$f":"IF(L20=L5,O43,0)","v":0},{"$f":"'[2]БР-4'!$D$55","v":{"v":3632,"d":"3,632.00 ₽"}},{"v":0,"d":"0.00 ₽"},{"$f":"6*E47","v":{"v":0,"d":"0.00"}},"2 \"-\"",{"$f":"IF(R43<24,S44,IF(R43<48,T44,IF(R43<84,U44,IF(R43<120,V44,IF(R43<164,X44,IF(R43<180,Y44,Z44))))))","v":"ЩМП1 (395х310х220)"},null,"RM84-2012-35-5230 ",1,{"$nulls":3},"шт.",{"v":146,"d":"146.00 ₽"},{"$f":"Q47*V47","v":{"v":146,"d":"146.00 ₽"}},"РелПол"]
["DA3","Блок релейный, БР-1-230-КП(Р/Э)-Пд-ТК)С)-IP20",{"$f":"IF(G20=G4,I48,0)","v":0},"БР1",{"$f":"IF(V20=V5,C48,F48)","v":0},{"$f":"IF(G20=G6,I48,C48)","v":0},{"$f":"IF(G20=G4,I48,F48)","v":0},{"$f":"IF(L20=L4,I48,G48)","v":0},{"$f":"IF(G20=G6,H49,I47)","v":0},{"$f":"'[2]БР-1'!$D$59","v":{"v":3543,"d":"3,543.00 ₽"}},{"$f":"E48*J48","v":{"v":0,"d":"0.00 ₽"}},{"$f":"3*E48","v":{"v":0,"d":"0.00"}},{"$nulls":3},"GZT80",1,{"$nulls":3},"шт.",{"v":78,"d":"78.00 ₽"},{"$f":"Q48*V48","v":{"v":78,"d":"78.00 ₽"}},"РелПол"]
["DA1.1-DA1.15","Блок релейный, БР-4-230-УН-Пд-ТС-IP20-М",null,"БР-4М",{"$f":"IF(L20=L5,F49,0)","v":0},{"$f":"IF(V20=V5,G49,0)","v":0},{"$f":"IF(G20=G6,H49,0)","v":0},{"$f":"IF(I49<1,0,IF(I49<3,1,IF(I49<5,2,IF(I49<7,3,IF(I49<9,4,IF(I49<11,5,IF(I49<13,6,IF(I49<15,7,IF(I49<17,8,IF(I49<19,9,IF(I49<21,10,IF(I49<23,11,IF(I49<25,12,IF(I49<27,13,IF(I49<29,14,IF(I49<31,15,IF(I49<33,16,IF(I49<35,17,IF(I49<37,18,IF(I49<39,19,IF(I49<41,20,IF(I49<43,21,IF(I49<45,22,IF(I49<47,23,IF(I49<49,24,IF(I49<51,25,IF(I49<53,26,IF(I49<55,27,IF(I49<57,28,IF(I49<59,29,IF(I49<61,30,\"много\")))))))))))))))))))))))))))))))","v":0},{"$f":"IF(L20=L5,O43,0)","v":0},{"$f":"'[2]БР-4'!$D$52","v":{"v":3686,"d":"3,686.00 ₽"}},{"$f":"E49*J49","v":{"v":0,"d":"0.00 ₽"}},{"$f":"6*E49","v":{"v":0,"d":"0.00"}}]
["UP","Источник питания RS-15-12",null,null,{"$f":"IF(E48=0,0,1)","v":0},{"$nulls":4},{"$f":"'[1]УСТР-ВА'!$D$144","v":{"v":615.31,"d":"615.31 ₽"}},{"$f":"E50*J50","v":{"v":0,"d":"0.00 ₽"}},{"$f":"4*E50","v":{"v":0,"d":"0.00"}},{"$nulls":3},"32015DEK",1,{"$nulls":3},"шт.",{"v":330.62,"d":"330.62 ₽"},{"$f":"Q50*V50","v":{"v":330.62,"d":"330.62 ₽"}},"Klemsan"]
["KМ1",{"$f":"P40","v":"Контактор КМ-103 9А катушка управления 220В AC"},null,{"$f":"IF(O43<27,P38,IF(O43<36,S38,IF(O43<54,T38,U38)))","v":"22103DEK"},{"$f":"IF(SUM(E47:E49)<1,F51,0)","v":1},{"$f":"IF(O43<19,1,IF(O43<39,2,IF(O43<56,3,4)))+(X20-1)","v":1},{"$nulls":3},{"$f":"IF(D51=P38,P39,IF(D51=S38,S39,IF(D51=T38,T39,U39)))","v":{"v":466.84,"d":"466.84 ₽"}},{"$f":"E51*J51","v":{"v":466.84,"d":"466.84 ₽"}},{"$f":"4*E51","v":{"v":4,"d":"4.00"}},{"$nulls":5},6,10,16,20,25,32,40,50,63]
["QF1",{"$f":"IF(D52=R52,R63,IF(D52=S52,R62,IF(D52=T52,R61,IF(D52=U52,R60,IF(D52=V52,R59,IF(D52=W52,R58,IF(D52=X52,R57,IF(D52=Y52,R56,IF(D52=Z52,R55)))))))))","v":"Выключатель автоматический однополюсный 6А С ВА-101 4.5кА (11052DEK)"},null,{"$f":"IF(O43<7,R52,IF(O43<11,S52,IF(O43<17,T52,IF(O43<21,U52,IF(O43<26,V52,IF(O43<33,W52,IF(O43<41,X52,IF(O43<51,Y52,Z52))))))))","v":"11052DEK"},1,{"$nulls":4},{"$f":"IF(D52=R52,R53,IF(D52=S52,S53,IF(D52=T52,T53,IF(D52=U52,U53,IF(D52=V52,V53,IF(D52=W52,W53,IF(D52=X52,X53,IF(D52=Y52,Y53,Z53))))))))","v":{"v":134.94,"d":"134.94 ₽"}},{"v":134.94,"d":"134.94 ₽"},{"$f":"1*E52","v":{"v":1,"d":"1.00"}},{"$nulls":4},"автомат \"С\"","11052DEK","11053DEK","11054DEK","11055DEK","11056DEK","11057DEK","11058DEK","11059DEK","11060DEK",{"$nulls":6},"автомат \"С\"","11076DEK","11077DEK","11078DEK","11079DEK","11080DEK","11081DEK","11082DEK","11083DEK","11084DEK","13008DEK","13009DEK"]
["QF2",{"$f":"[1]Автоматы!$A$468","v":"Выключатель автоматический однополюсный 1А С ВА-101 4.5кА (11049DEK)"},null,{"$f":"[1]Автоматы!$I$345","v":"11149DEK"},1,{"$nulls":4},{"$f":"[1]Автоматы!$H$345","v":{"v":160.07,"d":"160.07 ₽"}},{"v":160.07,"d":"160.07 ₽"},{"$f":"1*E53","v":{"v":1,"d":"1.00"}},null,{"$f":"IF((V21+Z21)>0,1,0)","v":0},null,"цена:",null,{"$f":"[1]Автоматы!$H$23","v":{"v":134.94,"d":"134.94 ₽"}},{"$f":"[1]Автоматы!$H$22","v":{"v":127.28,"d":"127.28 ₽"}},{"$f":"[1]Автоматы!$H$21","v":{"v":114.72,"d":"114.72 ₽"}},{"$f":"[1]Автоматы!$H$20","v":{"v":137.66,"d":"137.66 ₽"}},{"$f":"[1]Автоматы!$H$19","v":{"v":118.55,"d":"118.55 ₽"}},{"$f":"[1]Автоматы!$H$17","v":{"v":134.94,"d":"134.94 ₽"}},{"$f":"[1]Автоматы!$H$16","v":{"v":139.31,"d":"139.31 ₽"}},{"$f":"[1]Автоматы!$H$15","v":{"v":160.61,"d":"160.61 ₽"}},{"$f":"[1]Автоматы!$H$14","v":{"v":160.61,"d":"160.61 ₽"}},{"$nulls":5},"цена:",null,{"$f":"[1]Автоматы!$H$340","v":{"v":427.74,"d":"427.74 ₽"}},{"$f":"[1]Автоматы!$H$339","v":{"v":423.37,"d":"423.37 ₽"}},{"$f":"[1]Автоматы!$H$338","v":{"v":408.61,"d":"408.61 ₽"}},{"$f":"[1]Автоматы!$H$337","v":{"v":426.1,"d":"426.10 ₽"}},{"$f":"[1]Автоматы!$H$336","v":{"v":368.75,"d":"368.75 ₽"}},{"$f":"[1]Автоматы!$H$335","v":{"v":398.24,"d":"398.24 ₽"}},{"$f":"[1]Автоматы!$H$334","v":{"v":414.07,"d":"414.07 ₽"}},{"$f":"[1]Автоматы!$H$333","v":{"v":495.48,"d":"495.48 ₽"}},{"$f":"[1]Автоматы!$H$332","v":{"v":481.27,"d":"481.27 ₽"}},{"$f":"[1]Автоматы!$H$350","v":{"v":1813.63,"d":"1,813.63 ₽"}},{"$f":"[1]Автоматы!$H$351","v":{"v":1808.17,"d":"1,808.17 ₽"}}]
["KL1",{"$f":"[1]Реле!$A$103","v":"Реле промышленное миниатюрное; монтаж в колодку; Контакты: 4CO (AgNi), напряжение 230В AC, номинальный ток 6А, опции: кнопка тест + мех.индикатор. R4N-2014-23-5230-WT"},null,"R4N-2014-23-5230-WT",{"$f":"1+X15","v":1},{"$nulls":4},{"$f":"[1]Реле!$G$103","v":{"v":224,"d":"224.00 ₽"}},{"v":224,"d":"224.00 ₽"},{"$f":"2*E54","v":{"v":2,"d":"2.00"}}]
[null,{"$f":"[1]Реле!$A$104","v":"Колодка с винтовыми зажимами (75*27*61мм) для реле серии R4N, T-R4;\nцвет серый. GZM4-gray"},null,"GZM4-gray",{"$f":"E54","v":1},{"$nulls":4},{"$f":"[1]Реле!$G$104","v":{"v":159,"d":"159.00 ₽"}},{"v":159,"d":"159.00 ₽"},{"$f":"0*E55","v":{"v":0,"d":"0.00"}},{"$nulls":5},"Выключатель автоматический однополюсный 63А С ВА-101 4.5кА (11060DEK)"]
[null,{"$f":"[1]Реле!$A$105","v":"Фиксатор металлический для реле R2N, R3N, R4N для колодок GZM2,\nGZT2, GZM3, GZT3, GZM4, GZT4, GZMB4, GZ4, GZP4. G4 1052"},null,"G4 1052",{"$f":"E54","v":1},{"$nulls":4},{"$f":"[1]Реле!$G$105","v":{"v":11,"d":"11.00 ₽"}},{"v":11,"d":"11.00 ₽"},{"$f":"0*E56","v":{"v":0,"d":"0.00"}},{"$nulls":5},"Выключатель автоматический однополюсный 50А С ВА-101 4.5кА (11059DEK)"]
["KL2, KL11-KL20",{"$f":"[1]Реле!$A$99","v":"Реле миниатюрное электромеханическое низкопрофильное, Контакты: 2CO (AgNi), напряжение 230В AC, номинальный ток 8А, прозрачный корпус, IP40, RTII. RM84-2012-25-5230-RUS"},null,"RM84-2012-25-5230-RUS",{"$f":"IF(N53=1,(2+O57),2)","v":2},{"$nulls":4},{"$f":"[1]Реле!$G$99","v":{"v":170,"d":"170.00 ₽"}},{"v":340,"d":"340.00 ₽"},{"$f":"1*E57","v":{"v":2,"d":"2.00"}},null,null,{"$f":"IF(E49=0,O43,0)","v":3}," - кол-во клапанов",null,"Выключатель автоматический однополюсный 40А С ВА-101 4.5кА (11058DEK)"]
[null,{"$f":"[1]Реле!$A$100","v":"Колодка с винтовыми зажимами для реле серии RM84, RM85,RM87L/P; цвет серый ( в комплекте шильдик маркировочный GZT80-0035). GZM80-gray"},null,"GZM80-gray",{"$f":"E57","v":2},{"$nulls":4},{"$f":"[1]Реле!$G$100","v":{"v":113,"d":"113.00 ₽"}},{"v":226,"d":"226.00 ₽"},{"$f":"0*E58","v":{"v":0,"d":"0.00"}},{"$nulls":5},"Выключатель автоматический однополюсный 32А С ВА-101 4.5кА (11057DEK)"]
[null,{"$f":"[1]Реле!$A$101","v":"Фиксатор металлический для реле RM84, RM85, RM87, для колодок GZT80, GZM80, GZF80, GZT92, GZM92. GZM80-0041"},null,"GZM80-0041",{"$f":"E57","v":2},{"$nulls":4},{"$f":"[1]Реле!$G$101","v":{"v":11,"d":"11.00 ₽"}},{"v":22,"d":"22.00 ₽"},{"$f":"0*E59","v":{"v":0,"d":"0.00"}},{"$nulls":5},"Выключатель автоматический однополюсный 25А С ВА-101 4.5кА (11056DEK)"]
["ХТ1","304130, Клеммник на DIN-рейку 4мм.кв. (серый); AVK4 (упак 100 шт)",null,304130,1,{"$nulls":4},{"$f":"[1]Клеммы!$E$111","v":{"v":31.54975,"d":"31.55 ₽"}},{"v":31.54975,"d":"31.55 ₽"},{"$f":"0.5*E60","v":{"v":0.5,"d":"0.50"}},{"$nulls":5},"Выключатель автоматический однополюсный 20А С ВА-101 4.5кА (11055DEK)"]
[null,"304131, Клеммник на DIN-рейку 4мм.кв. (синий); AVK4 (упак 100 шт)",null,304131,1,{"$nulls":4},{"$f":"[1]Клеммы!$E$113","v":{"v":31.54975,"d":"31.55 ₽"}},{"v":31.54975,"d":"31.55 ₽"},{"$f":"0.5*E61","v":{"v":0.5,"d":"0.50"}},"Всего шкафов",{"$nulls":4},"Выключатель автоматический однополюсный 16А С ВА-101 4.5кА (11054DEK)"]
[null,"334120, Клеммник на DIN-рейку 4 мм.кв., (земля); AVK2,5/4T (упак 50 шт)",null,334120,1,{"$nulls":4},{"$f":"[1]Клеммы!$E$115","v":{"v":111.6376,"d":"111.64 ₽"}},{"v":111.6376,"d":"111.64 ₽"},{"$f":"0.5*E62","v":{"v":0.5,"d":"0.50"}},{"$f":"E43","v":1},{"$nulls":4},"Выключатель автоматический однополюсный 10А С ВА-101 4.5кА (11053DEK)"]
["ХТ2","304120, Клеммник на DIN-рейку 2,5мм.кв. (серый); AVK2,5 (упак 100 шт)",null,304120,{"$f":"IF(G20=G5,G63,F63)","v":6},{"$f":"O43","v":3},{"$f":"O43*2","v":6},null,null,{"$f":"[1]Клеммы!$E$116","v":{"v":27.9094,"d":"27.91 ₽"}},{"$f":"E63*J63","v":{"v":167.4564,"d":"167.46 ₽"}},{"$f":"0.35*E63","v":{"v":2.0999999999999996,"d":"2.10"}},{"$nulls":5},"Выключатель автоматический однополюсный 6А С ВА-101 4.5кА (11052DEK)"]
[null,"304121, Клеммник на DIN-рейку 2,5мм.кв. (синий); AVK2,5 (упак 100 шт)",null,304121,{"$f":"O43","v":3},{"$nulls":4},{"$f":"[1]Клеммы!$E$118","v":{"v":27.9094,"d":"27.91 ₽"}},{"v":83.7282,"d":"83.73 ₽"},{"$f":"0.35*E64","v":{"v":1.0499999999999998,"d":"1.05"}}]
["ХТ3","304120, Клеммник на DIN-рейку 2,5мм.кв. (серый); AVK2,5 (упак 100 шт)",null,304120,{"$f":"IF(N53=1,O43*3,0)","v":0},{"$nulls":4},{"$f":"[1]Клеммы!$E$116","v":{"v":27.9094,"d":"27.91 ₽"}},{"v":0,"d":"0.00 ₽"},{"$f":"0.35*E65","v":{"v":0,"d":"0.00"}}]
["ХТ4","304120, Клеммник на DIN-рейку 2,5мм.кв. (серый); AVK2,5 (упак 100 шт)",null,304120,{"$f":"IF(T20=T4,4,IF(T20=T5,4,IF(T20=T6,2,2)))+X13","v":2},{"$nulls":4},{"$f":"[1]Клеммы!$E$116","v":{"v":27.9094,"d":"27.91 ₽"}},{"v":55.8188,"d":"55.82 ₽"},{"$f":"0.35*E66","v":{"v":0.7,"d":"0.70"}}]
["ХТ5","304120, Клеммник на DIN-рейку 2,5мм.кв. (серый); AVK2,5 (упак 100 шт)",null,304120,{"$f":"IF(N53=1,(6+(O43*2)),6)","v":6},{"$nulls":4},{"$f":"[1]Клеммы!$E$116","v":{"v":27.9094,"d":"27.91 ₽"}},{"v":167.4564,"d":"167.46 ₽"},{"$f":"0.35*E67","v":{"v":2.0999999999999996,"d":"2.10"}}]
["HL3, L1.2-L10.2","Лампа ADDS 22мм зеленая LED 220В",null,"25002DEK",{"$f":"IF(V20=V5,F68,G68)","v":1},{"$f":"G68+O68","v":4},1,null,null,{"$f":"[1]Лампы!$G$5","v":{"v":93.7,"d":"93.70 ₽"}},{"v":93.7,"d":"93.70 ₽"},{"$nulls":3},{"$f":"O43","v":3}," - кол-во клапанов"]
["HL1,HL1.1-L10.1","Лампа ADDS 22мм красная LED 220В",null,"25003DEK",{"$f":"IF(V20=V5,F69,G69)+X15","v":1},{"$f":"G69+O69","v":4},1,null,null,{"$f":"[1]Лампы!$G$3","v":{"v":93.7,"d":"93.70 ₽"}},{"v":93.7,"d":"93.70 ₽"},{"$nulls":3},{"$f":"O43","v":3}," - кол-во клапанов"]
["HL4,HL2","Лампа ADDS 22мм желтая LED 220В",null,"25004DEK",{"$f":"IF(V20=V5,F70,G70)+X15","v":2},{"$f":"G70+O70","v":5},2,null,null,{"$f":"[1]Лампы!$G$6","v":{"v":91.15,"d":"91.15 ₽"}},{"v":182.3,"d":"182.30 ₽"},{"$nulls":3},{"$f":"O43","v":3}," - кол-во клапанов"]
["SA1","Переключатель AKS-2 22мм с ключом 2 позиции I-O черная ручка",null,"25053DEK",{"$f":"1+X15","v":1},{"$nulls":4},{"$f":"'[1]Кнопки, переключатели'!$F$6","v":{"v":228.78,"d":"228.78 ₽"}},{"v":228.78,"d":"228.78 ₽"}]
["SA2","Перекл. на 2 пол. I-O удлинн. ручка (1НО+1НЗ) ALCR",null," 25145DEK",1,{"$nulls":4},{"$f":"'[1]Кнопки, переключатели'!$F$22","v":{"v":257.04,"d":"257.04 ₽"}},{"v":257.04,"d":"257.04 ₽"}]
[" ","Метизы и расходные материалы",null,null,1,{"$nulls":4},{"v":500,"d":"500.00 ₽"},{"$f":"E73*J73","v":{"v":500,"d":"500.00 ₽"}}]
[]
[null,"ЩУ-П НИКОМ Кп-230-IP31-1[",null,"/230/1-24D]",{"$nulls":6},"Комплектация",{"$f":"K43","v":{"v":6289.5669,"d":"6,289.57 ₽"}},null,"кол-во модулей"]
[{"$nulls":10},"Подготовка Док-ции",{"$f":"(D175*(M62))*I87","v":{"v":700.0000000000001,"d":"700.00 ₽"}},null,12,24,32,63,90,120,150,180,200,240,320]
[{"$nulls":10},"ИТР",{"$f":"(K43)*I88","v":{"v":503.165352,"d":"503.17 ₽"}},null,"СТОИМОСТЬ СБОРКИ - от мощности"]
[{"$nulls":10},"Сборка",{"$f":"IF(R43<N76,N78,IF(R43<O76,O78,IF(R43<P76,P78,IF(R43<Q76,Q78,IF(R43<R76,R78,IF(R43<S76,S78,IF(R43<T76,T78,IF(R43<U76,U78,IF(R43<V76,V78,IF(R43<W76,W78,IF(R43<X76,X78,\"ты охуел?\")))))))))))","v":{"v":8700,"d":"8,700.00 ₽"}},null,{"v":6500,"d":"6,500.00 ₽"},{"v":8700,"d":"8,700.00 ₽"},{"v":10800,"d":"10,800.00 ₽"},{"v":14900,"d":"14,900.00 ₽"},{"v":16920,"d":"16,920.00 ₽"},{"v":20900,"d":"20,900.00 ₽"},{"v":24400,"d":"24,400.00 ₽"},{"v":26700,"d":"26,700.00 ₽"},{"v":28800,"d":"28,800.00 ₽"},{"v":32000,"d":"32,000.00 ₽"},{"v":36500,"d":"36,500.00 ₽"}]
[{"$nulls":10},"Программирование",{"$f":"D179*I91","v":{"v":0,"d":"0.00 ₽"}}]
[{"$nulls":10},"ОТК",{"$f":"(K43)*I90","v":{"v":125.791338,"d":"125.79 ₽"}}]
[{"$nulls":10},"Шеф-монтаж",{"$f":"(D180*(M62))*I92","v":{"v":0,"d":"0.00 ₽"}}]
[{"$nulls":10},"Итого",{"$f":"SUM(L75:L81)","v":{"v":16318.52359,"d":"16,318.52 ₽"}},null,null,"Скидка:",{"v":0.05,"d":"5%"},{"$f":"IF(Q83>L78,\"работа\",\"ПЕРЕБОР со скидкой!!!\")","v":"работа"}]
[{"$nulls":14},{"$f":"L82-L82*P82","v":{"v":15502.5974105,"d":"15,502.60 ₽"}},null,{"$f":"O83-L75","v":{"v":9213.0305105,"d":"9,213.03 ₽"}}]
[{"$nulls":10},"Проверка:"]
[{"$nulls":10},"матриалы",{"$f":"L75","v":{"v":6289.5669,"d":"6,289.57 ₽"}}]
[{"$nulls":10},"работа",{"$f":"SUM(L76:L81)","v":{"v":10028.956689999999,"d":"10,028.96 ₽"}}]
[{"$nulls":4},"5000*К0",{"$nulls":3},0.14,"коэф. На разработку"]
[{"$nulls":4},"Цк*К1",{"$nulls":3},0.08,"коэф. На ИТР"]
[{"$nulls":4},"Цк*К2",{"$nulls":3},0.32,"коэф. На сборку"]
[{"$nulls":4},"Цк*К3",{"$nulls":3},0.02,"коэф. На ОТК"]
[{"$nulls":4},"2000*К4",{"$nulls":3},0,"коэф. На программир-е"]
[{"$nulls":4},"1000*К5",{"$nulls":3},0,"коэф. На Шеф-монтаж"]
[]
[]
[null,"Спецификация","кол-во","стоимость","Итого"]
[1,{"$f":"Расёты!B2","v":"Корпус ЩМП1 (395х310х220)"},1,{"$f":"Расёты!G34","v":{"v":2056,"d":"2,056.00 ₽"}},{"$f":"D96*C96","v":{"v":2056,"d":"2,056.00 ₽"}},"комплектация",{"$f":"SUM(E96:E128)","v":{"v":6289.5669,"d":"6,289.57 ₽"}}]
[2,{"$f":"Расёты!B3","v":"Блок релейный \"БР-2-US-IP00\""},{"$f":"Расёты!H33","v":1},{"$f":"Расёты!I34","v":{"v":485,"d":"485.00 ₽"}},{"$f":"D97*C97","v":{"v":485,"d":"485.00 ₽"}},"РАБОТА",{"$f":"Расёты!L86","v":{"v":10028.956689999999,"d":"10,028.96 ₽"}}]
[3,{"$f":"Расёты!B4","v":"Контактор КМ-103 9А катушка управления 220В AC"},{"$f":"Расёты!J33","v":1},{"$f":"Расёты!K34","v":{"v":466.84,"d":"466.84 ₽"}},{"$f":"D98*C98","v":{"v":466.84,"d":"466.84 ₽"}},"(МАХ СКИДКА)",{"$f":"Изделие!E1-SUM(G96:G97)","v":0}]
[4,{"$f":"Расёты!B5","v":""},{"$f":"Расёты!L33","v":""},{"$f":"Расёты!M34","v":""},{"$f":"IF(B99=\"\",0,(D99*C99))","v":0}]
[5,{"$f":"Расёты!B6","v":"Выключатель автоматический однополюсный 1А С ВА-101 4.5кА (11049DEK)"},{"$f":"Расёты!N33","v":1},{"$f":"Расёты!O34","v":{"v":134.94,"d":"134.94 ₽"}},{"$f":"D100*C100","v":{"v":134.94,"d":"134.94 ₽"}}]
[6,{"$f":"Расёты!B7","v":"Выключатель автоматический однополюсный 1А С ВА-101 4.5кА (11049DEK)"},{"$f":"Расёты!P33","v":1},{"$f":"Расёты!Q34","v":{"v":160.07,"d":"160.07 ₽"}},{"$f":"D101*C101","v":{"v":160.07,"d":"160.07 ₽"}}]
[7,{"$f":"Расёты!B8","v":"Реле промышленное миниатюрное; монтаж в колодку; Контакты: 4CO (AgNi), напряжение 230В AC, номинальный ток 6А, опции: кнопка тест + мех.индикатор. R4N-2014-23-5230-WT"},{"$f":"Расёты!R33","v":1},{"$f":"Расёты!S34","v":{"v":224,"d":"224.00 ₽"}},{"$f":"D102*C102","v":{"v":224,"d":"224.00 ₽"}}]
[]
[]
[]
[]
[]
[8,{"$f":"Расёты!B9","v":"Колодка с винтовыми зажимами (75*27*61мм) для реле серии R4N, T-R4;\nцвет серый. GZM4-gray"},{"$f":"Расёты!T33","v":1},{"$f":"Расёты!U34","v":{"v":159,"d":"159.00 ₽"}},{"$f":"D108*C108","v":{"v":159,"d":"159.00 ₽"}}]
[9,{"$f":"Расёты!B10","v":"Фиксатор металлический для реле R2N, R3N, R4N для колодок GZM2,\nGZT2, GZM3, GZT3, GZM4, GZT4, GZMB4, GZ4, GZP4. G4 1052"},{"$f":"Расёты!V33","v":1},{"$f":"Расёты!W34","v":{"v":11,"d":"11.00 ₽"}},{"$f":"D109*C109","v":{"v":11,"d":"11.00 ₽"}}]
[10,{"$f":"Расёты!B11","v":"Реле миниатюрное электромеханическое низкопрофильное, Контакты: 2CO (AgNi), напряжение 230В AC, номинальный ток 8А, прозрачный корпус, IP40, RTII. RM84-2012-25-5230-RUS"},{"$f":"Расёты!X33","v":2},{"$f":"Расёты!Y34","v":{"v":170,"d":"170.00 ₽"}},{"$f":"D110*C110","v":{"v":340,"d":"340.00 ₽"}}]
[11,{"$f":"Расёты!B12","v":"Колодка с винтовыми зажимами для реле серии RM84, RM85,RM87L/P; цвет серый ( в комплекте шильдик маркировочный GZT80-0035). GZM80-gray"},{"$f":"Расёты!Z33","v":2},{"$f":"Расёты!D12","v":113},{"$f":"D111*C111","v":{"v":226,"d":"226.00 ₽"}}]
[]
[]
[12,{"$f":"Расёты!B13","v":"Фиксатор металлический для реле RM84, RM85, RM87, для колодок GZT80, GZM80, GZF80, GZT92, GZM92. GZM80-0041"},{"$f":"Расёты!AB33","v":2},{"$f":"Расёты!D13","v":11},{"$f":"D114*C114","v":{"v":22,"d":"22.00 ₽"}}]
[13,{"$f":"Расёты!B14","v":"304130, Клеммник на DIN-рейку 4мм.кв. (серый); AVK4 (упак 100 шт)"},{"$f":"Расёты!AD33","v":1},{"$f":"Расёты!D14","v":31.54975},{"v":31.54975,"d":"31.55 ₽"}]
[14,{"$f":"Расёты!B15","v":"304131, Клеммник на DIN-рейку 4мм.кв. (синий); AVK4 (упак 100 шт)"},{"$f":"Расёты!AF33","v":1},{"$f":"Расёты!D15","v":31.54975},{"v":31.54975,"d":"31.55 ₽"}]
[15,{"$f":"Расёты!B16","v":"334120, Клеммник на DIN-рейку 4 мм.кв., (земля); AVK2,5/4T (упак 50 шт)"},{"$f":"Расёты!AH33","v":1},{"$f":"Расёты!D16","v":111.6376},{"v":111.6376,"d":"111.64 ₽"}]
[16,{"$f":"Расёты!B17","v":"304120, Клеммник на DIN-рейку 2,5мм.кв. (серый); AVK2,5 (упак 100 шт)"},{"$f":"Расёты!AJ33","v":6},{"$f":"Расёты!D17","v":27.9094},{"v":167.4564,"d":"167.46 ₽"}]
[17,{"$f":"Расёты!B18","v":"304121, Клеммник на DIN-рейку 2,5мм.кв. (синий); AVK2,5 (упак 100 шт)"},{"$f":"Расёты!AL33","v":3},{"$f":"Расёты!D18","v":27.9094},{"v":83.7282,"d":"83.73 ₽"}]
[18,{"$f":"Расёты!AP34","v":"304120, Клеммник на DIN-рейку 2,5мм.кв. (серый); AVK2,5 (упак 100 шт)"},{"$f":"Расёты!AN33","v":0},{"$f":"Расёты!D19","v":27.9094},0]
[19,{"$f":"Расёты!B20","v":"304120, Клеммник на DIN-рейку 2,5мм.кв. (серый); AVK2,5 (упак 100 шт)"},{"$f":"Расёты!AP33","v":2},{"$f":"Расёты!D20","v":27.9094},{"v":55.8188,"d":"55.82 ₽"}]
[20,{"$f":"Расёты!B21","v":"304120, Клеммник на DIN-рейку 2,5мм.кв. (серый); AVK2,5 (упак 100 шт)"},{"$f":"Расёты!AR33","v":6},{"$f":"Расёты!D21","v":27.9094},{"v":167.4564,"d":"167.46 ₽"}]
[21,{"$f":"Расёты!B22","v":"Лампа ADDS 22мм зеленая LED 220В"},{"$f":"Расёты!AT33","v":1},{"$f":"Расёты!D22","v":93.7},{"v":93.7,"d":"93.70 ₽"}]
[22,{"$f":"Расёты!AV34","v":"Лампа ADDS 22мм красная LED 220В"},{"$f":"Расёты!AV33","v":1},{"$f":"Расёты!AW34","v":{"v":93.7,"d":"93.70 ₽"}},{"v":93.7,"d":"93.70 ₽"}]
[23,{"$f":"Расёты!AX34","v":"Лампа ADDS 22мм желтая LED 220В"},{"$f":"Расёты!AX33","v":2},{"$f":"Расёты!AY34","v":{"v":91.15,"d":"91.15 ₽"}},{"v":182.3,"d":"182.30 ₽"}]
[24,{"$f":"Расёты!AZ34","v":"Переключатель AKS-2 22мм с ключом 2 позиции I-O черная ручка"},{"$f":"Расёты!AZ33","v":1},{"$f":"Расёты!BA34","v":{"v":228.78,"d":"228.78 ₽"}},{"v":228.78,"d":"228.78 ₽"}]
[25,{"$f":"Расёты!BB34","v":"Перекл. на 2 пол. I-O удлинн. ручка (1НО+1НЗ) ALCR"},{"$f":"Расёты!BB33","v":1},{"$f":"Расёты!BC34","v":{"v":257.04,"d":"257.04 ₽"}},{"v":257.04,"d":"257.04 ₽"}]
[26,{"$f":"Расёты!BD34","v":"Метизы и расходные материалы"},{"$f":"Расёты!BD33","v":1},{"$f":"Расёты!BE34","v":{"v":500,"d":"500.00 ₽"}},{"v":500,"d":"500.00 ₽"}]
{"$rows_empty":46}
[null,"Соимость разработки КД:",null,5000]
[null,"Соимость ИТР:"]
[null,"Соимость сборки:"]
[null,"Соимость ОТК:"]
[null,"Соимость программирования:",null,2000]
[null,"Соимость шеф-монтажа на объекте",null,1000]